{ "extent": { "ymin": -35.313427203999979, "xmin": 96.793942823000066, "ymax": -10.40955960399998, "xmax": 129.81262262300007, "spatialReference": { "latestWkid": 7844, "wkid": 7844 } }, "blockWidth": 2048, "mosaicOperator": "First", "serviceSourceType": "esriImageServiceSourceTypeMosaicDataset", "hasMultidimensions": false, "maxImageWidth": 15000, "maxRecordCount": 1000, "meanValues": [ 150.87430580749927, 116.42845669882263, 91.973019904060379 ], "hasColormap": false, "compressionType": "None", "defaultCompressionQuality": 75, "maxValues": [ 255, 255, 255 ], "hasHistograms": true, "datasetFormat": "AMD", "maxImageHeight": 4100, "sortField": "", "bandNames": [ "Band_1", "Band_2", "Band_3" ], "spatialReference": { "latestWkid": 7844, "wkid": 7844 }, "fullExtent": { "ymin": -35.313427203999979, "xmin": 96.793942823000066, "ymax": -10.40955960399998, "xmax": 129.81262262300007, "spatialReference": { "latestWkid": 7844, "wkid": 7844 } }, "bandCount": 3, "rasterFunctionInfos": [{ "help": "", "name": "None", "description": "A No-Op Function." }], "supportsStatistics": true, "sortableFields": "MinPS,MaxPS,LowPS,HighPS,CenterX,CenterY,ZOrder,ground_resolution,capture_start_date,capture_finish_date,accuracy_in_meters", "minValues": [ 0, 0, 5 ], "allowRasterFunction": true, "allowComputeTiePoints": false, "serviceDataType": "esriImageServiceDataTypeRGB", "supportsAdvancedQueries": true, "maxDownloadSizeLimit": 2048, "currentVersion": 12.1, "sortValue": null, "objectIdField": "objectid", "blockHeight": 256, "initialExtent": { "ymin": -35.313427203999979, "xmin": 96.793942823000066, "ymax": -10.40955960399998, "xmax": 129.81262262300007, "spatialReference": { "latestWkid": 7844, "wkid": 7844 } }, "pixelSizeX": 4.5000000000000003E-7, "pixelSizeY": 4.4999999999999998E-7, "defaultMosaicMethod": "Northwest", "name": "SLIP_Public_Services/Locate", "allowedMosaicMethods": "NorthWest,Center,LockRaster,ByAttribute,Nadir,Viewpoint,Seamline,None", "maxDownloadImageCount": 1000, "fields": [ { "domain": null, "name": "objectid", "alias": "objectid", "type": "esriFieldTypeOID" }, { "domain": null, "name": "name", "length": 200, "alias": "name", "type": "esriFieldTypeString" }, { "domain": null, "name": "minps", "alias": "minps", "type": "esriFieldTypeDouble" }, { "domain": null, "name": "maxps", "alias": "maxps", "type": "esriFieldTypeDouble" }, { "domain": null, "name": "lowps", "alias": "lowps", "type": "esriFieldTypeDouble" }, { "domain": null, "name": "highps", "alias": "highps", "type": "esriFieldTypeDouble" }, { "domain": { "splitPolicy": "esriSPTDefaultValue", "name": "MosaicCatalogItemCategoryDomain", "description": "Catalog item categories.", "type": "codedValue", "codedValues": [ { "code": 0, "name": "Unknown" }, { "code": 1, "name": "Primary" }, { "code": 2, "name": "Overview" }, { "code": 3, "name": "Unprocessed Overview" }, { "code": 4, "name": "Partial Overview" }, { "code": 253, "name": "Uploaded" }, { "code": 254, "name": "Incomplete" }, { "code": 255, "name": "Custom" } ], "mergePolicy": "esriMPTDefaultValue" }, "name": "category", "alias": "category", "type": "esriFieldTypeInteger" }, { "domain": null, "name": "tag", "length": 100, "alias": "tag", "type": "esriFieldTypeString" }, { "domain": null, "name": "groupname", "length": 100, "alias": "groupname", "type": "esriFieldTypeString" }, { "domain": null, "name": "productname", "length": 100, "alias": "productname", "type": "esriFieldTypeString" }, { "domain": null, "name": "centerx", "alias": "centerx", "type": "esriFieldTypeDouble" }, { "domain": null, "name": "centery", "alias": "centery", "type": "esriFieldTypeDouble" }, { "domain": null, "name": "zorder", "alias": "zorder", "type": "esriFieldTypeInteger" }, { "domain": null, "name": "ground_resolution", "alias": "ground_resolution", "type": "esriFieldTypeDouble" }, { "domain": null, "name": "capture_start_date", "length": 8, "alias": "capture_start_date", "type": "esriFieldTypeDate" }, { "domain": null, "name": "capture_finish_date", "length": 8, "alias": "capture_finish_date", "type": "esriFieldTypeDate" }, { "domain": null, "name": "capture_date_text", "length": 255, "alias": "capture_date_text", "type": "esriFieldTypeString" }, { "domain": null, "name": "location_text", "length": 255, "alias": "location_text", "type": "esriFieldTypeString" }, { "domain": null, "name": "accuracy_in_meters", "alias": "accuracy_in_meters", "type": "esriFieldTypeDouble" }, { "domain": null, "name": "project_classification", "length": 255, "alias": "project_classification", "type": "esriFieldTypeString" }, { "domain": null, "name": "status", "length": 255, "alias": "status", "type": "esriFieldTypeString" }, { "domain": null, "name": "namelink", "length": 255, "alias": "namelink", "type": "esriFieldTypeString" }, { "domain": null, "name": "shape", "alias": "shape", "type": "esriFieldTypeGeometry" } ], "allowAnalysis": true, "hasRasterAttributeTable": false, "useStandardizedQueries": true, "description": "
This free, publically available base layer imagery is a whole of State layer configured as a flattened and seamless single service. It can be used as a background in conjunction with other data services to provide a spatial reference and contains 1:100,000 aerial imagery tiles, regional and town site/Aboriginal Community mosaics that are a minimum of 400 days old.<\/span><\/p><\/div><\/div>",
"pixelType": "U8",
"meanPixelSize": 0.050093770856973106,
"exportTilesAllowed": false,
"editFieldsInfo": null,
"rasterTypeInfos": [{
"help": "",
"name": "Raster Dataset",
"description": "Supports all ArcGIS Raster Datasets"
}],
"defaultResamplingMethod": "Bilinear",
"itemAccess": false,
"minScale": 0,
"serviceProperties": " This free, publically available base layer imagery is a whole of State layer configured as a flattened and seamless single service. It can be used as a background in conjunction with other data services to provide a spatial reference and contains 1:100,000 aerial imagery tiles, regional and town site/Aboriginal Community mosaics that are a minimum of 400 days old.<\/span><\/p><\/div><\/div>",
"allowCopy": true,
"copyrightText": "",
"mensurationCapabilities": "None",
"ownershipBasedAccessControlForRasters": null
}